BEGIN:VCALENDAR
VERSION:2.0
PRODID:-//ChamberMaster//Event Calendar 2.0//EN
METHOD:PUBLISH
X-PUBLISHED-TTL:P3D
REFRESH-INTERVAL:P3D
CALSCALE:GREGORIAN
BEGIN:VEVENT
DTSTART:20180429T133000Z
DTEND:20180429T150000Z
X-MICROSOFT-CDO-ALLDAYEVENT:FALSE
SUMMARY:Orlandough Donut Pop-up
DESCRIPTION:Two small local buisnesses come together to support each other!\n\nYou can find @orlandough donuts (with vegan & gf options) at New General on Sunday morning (4.29).\n\nGrab a cup of coffee and some healthy breakfast items to pair with your fresh donuts because life is about balance!
X-ALT-DESC;FMTTYPE=text/html:<span style="font-family:arial\,helvetica\,sans-serif">Two small local buisnesses come together to support each other!<br />\nYou can find @orlandough donuts (with vegan &amp\; gf options) at New General on Sunday morning (4.29).<br />\nGrab a cup of coffee and some healthy breakfast items to pair with your fresh donuts because life is about balance!</span>
LOCATION:
UID:e.3221.5035280
SEQUENCE:3
DTSTAMP:20260423T062333Z
URL:https://business.winterpark.org/events/details/orlandough-donut-pop-up-5035280
END:VEVENT

END:VCALENDAR
