BEGIN:VCALENDAR
VERSION:2.0
PRODID:-//ChamberMaster//Event Calendar 2.0//EN
METHOD:PUBLISH
X-PUBLISHED-TTL:P3D
REFRESH-INTERVAL:P3D
CALSCALE:GREGORIAN
BEGIN:VEVENT
DTSTART:20200321T230000Z
DTEND:20200322T010000Z
X-MICROSOFT-CDO-ALLDAYEVENT:FALSE
SUMMARY:Opera Salon Series
DESCRIPTION:Saturday March 21 at 7 p.m. at the home of Kathy & Steve Miller in Winter Park\n\n\n\nTickets are $150 per person ($125 for Opera Orlando Ambassadors) and include valet parking\, catered dinner\, and a special musical program featuring Metropolitan Opera National Competition winners Carlos Enrique Santelli and his wife Ashley Dixon.
X-ALT-DESC;FMTTYPE=text/html:<div style="text-align: center\;"><span style="color:rgba(29\, 29\, 29\, 0.7)\; font-family:raleway\; font-size:14px">Saturday</span><strong> March 21</strong><span style="color:rgba(29\, 29\, 29\, 0.7)\; font-family:raleway\; font-size:14px"> at 7 p.m. at the home of Kathy &amp\; Steve Miller in Winter Park</span><br />\n<br />\n<strong>Tickets are $150 per person ($125 for </strong><a href="https://operaorlando.org/ambassadors" style="color: rgb(56\, 101\, 224)\; text-decoration-line: none\; padding-bottom: 0.05em\; border-bottom: 1px solid rgba(56\, 101\, 224\, 0.3)\; transition: border-color 0.15s ease-out 0s\, color 0.15s ease-out 0s\; overflow-wrap: break-word\; font-family: Raleway\; font-size: 14px\; letter-spacing: 0.84px\; text-align: center\; white-space: pre-wrap\;"><strong>Opera Orlando Ambassadors</strong></a><strong>) </strong><span style="color:rgba(29\, 29\, 29\, 0.7)\; font-family:raleway\; font-size:14px">and include valet parking\, catered dinner\, and a special musical program featuring Metropolitan Opera National Competition winners </span><a href="https://www.carlosenriquesantelli.com/" style="color: rgb(56\, 101\, 224)\; text-decoration-line: none\; padding-bottom: 0.05em\; border-bottom: 1px solid rgba(56\, 101\, 224\, 0.3)\; transition: border-color 0.15s ease-out 0s\, color 0.15s ease-out 0s\; overflow-wrap: break-word\; font-family: Raleway\; font-size: 14px\; letter-spacing: 0.84px\; text-align: center\; white-space: pre-wrap\;">Carlos Enrique Santelli</a><span style="color:rgba(29\, 29\, 29\, 0.7)\; font-family:raleway\; font-size:14px"> and his wife </span><a href="https://www.ashleydixonmezzo.com/about" style="color: rgb(56\, 101\, 224)\; text-decoration-line: none\; padding-bottom: 0.05em\; border-bottom: 1px solid rgba(56\, 101\, 224\, 0.3)\; transition: border-color 0.15s ease-out 0s\, color 0.15s ease-out 0s\; overflow-wrap: break-word\; font-family: Raleway\; font-size: 14px\; letter-spacing: 0.84px\; text-align: center\; white-space: pre-wrap\;">Ashley Dixon</a><span style="color:rgba(29\, 29\, 29\, 0.7)\; font-family:raleway\; font-size:14px">.</span></div>\n
LOCATION:Home of Kathy & Steve Miller Winter Park\, Florida
UID:e.3221.5039417
SEQUENCE:3
DTSTAMP:20260421T043701Z
URL:https://business.winterpark.org/events/details/opera-salon-series-03-21-2020-5039417
END:VEVENT

END:VCALENDAR
