BEGIN:VCALENDAR
VERSION:2.0
PRODID:-//ChamberMaster//Event Calendar 2.0//EN
METHOD:PUBLISH
X-PUBLISHED-TTL:P3D
REFRESH-INTERVAL:P3D
CALSCALE:GREGORIAN
BEGIN:VEVENT
DTSTART:20200308T000000Z
DTEND:20200308T020000Z
X-MICROSOFT-CDO-ALLDAYEVENT:FALSE
SUMMARY:Opera Salon Series
DESCRIPTION:Saturday March 7 at 7 p.m. at the home of Joy Roney in Winter Park\n\nProceeds from this concert will go to the Louis Roney Memorial Fund which sponsors Mainstage artists for Opera Orlando.\n\nTickets are $75 and include food and wine.
X-ALT-DESC;FMTTYPE=text/html:<p style="text-align:center">Saturday<strong> March 7</strong> at 7 p.m. at the home of Joy Roney in Winter Park</p>\n\n<p style="text-align:center">Proceeds from this concert will go to the <a href="https://dos.myflorida.com/cultural/programs/florida-artists-hall-of-fame/louis-roney/" style="background-color: transparent\; color: rgb(56\, 101\, 224)\; text-decoration-line: none\; padding-bottom: 0.05em\; border-bottom: 1px solid rgba(56\, 101\, 224\, 0.3)\; transition: border-color 0.15s ease-out 0s\, color 0.15s ease-out 0s\; overflow-wrap: break-word\;" target="_blank"><strong>Louis Roney</strong></a><strong> Memorial Fund</strong> which sponsors Mainstage artists for Opera Orlando.</p>\n\n<p style="text-align:center"><strong>Tickets are $75 </strong>and include food and wine.</p>\n
LOCATION:Home of Joy Roney Winter Park\, Florida
UID:e.3221.5039416
SEQUENCE:3
DTSTAMP:20260421T043701Z
URL:https://business.winterpark.org/events/details/opera-salon-series-03-07-2020-5039416
END:VEVENT

END:VCALENDAR
