BEGIN:VCALENDAR
VERSION:2.0
PRODID:-//ChamberMaster//Event Calendar 2.0//EN
METHOD:PUBLISH
X-PUBLISHED-TTL:P3D
REFRESH-INTERVAL:P3D
CALSCALE:GREGORIAN
BEGIN:VEVENT
DTSTART;VALUE=DATE:20200830
DTEND;VALUE=DATE:20200831
TRANSP:TRANSPARENT
X-MICROSOFT-CDO-ALLDAYEVENT:TRUE
SUMMARY:Opera on Park - Concert 2
DESCRIPTION:The Opera on Park Summer Concert Series continues Sunday\, August 30 at 2 p.m. with bass-baritone Gregg Baker and pianist Robin Stamper.\n \n\nMetropolitan Opera singer and Broadway veteran bass-baritone Gregg Baker has a fantastic program in store for Orlando audiences showcasing his versatility and artistry as a performer\, accompanied by Opera Orlando favorite Robin Stamper. Now an Orlando resident\, Mr. Baker has had a unique career spanning decades on stages worldwide\, as well as on recordings and TV. He will be making his Opera Orlando MainStage debut this March as Zuniga in Carmen\, as well as workshopping the role of Augustus\, the father\, in Opera Orlando's first commissioned work\, The Secret River.\n\nPlease consider making a donation to Opera Orlando to support this and future programs. Suggested donation for a single concert is $30 and for the entire series\, $75. Donate $75 today and get exclusive access to Opera Orlando's virtual Fifth Anniversary Party on Sunday\, September 20\, 2020 at 2 p.m.
X-ALT-DESC;FMTTYPE=text/html:<p><span style="color:rgb(0\, 0\, 0)"><span style="background-color:transparent\; font-family:roboto\,sans-serif\; font-size:11pt">The Opera on Park Summer Concert Series continues Sunday\, August 30 at 2 p.m. with bass-baritone Gregg Baker and pianist Robin Stamper.</span></span></p>\n&nbsp\;\n\n<p><span style="color:rgb(0\, 0\, 0)"><span style="background-color:transparent\; font-family:roboto\,sans-serif\; font-size:11pt">Metropolitan Opera singer and Broadway veteran bass-baritone Gregg Baker has a fantastic program in store for Orlando audiences showcasing his versatility and artistry as a performer\, accompanied by Opera Orlando favorite Robin Stamper. Now an Orlando resident\, Mr. Baker has had a unique career spanning decades on stages worldwide\, as well as on recordings and TV. He will be making his Opera Orlando MainStage debut this March as Zuniga in </span><em>Carmen</em><span style="background-color:transparent\; font-family:roboto\,sans-serif\; font-size:11pt">\, as well as workshopping the role of Augustus\, the father\, in Opera Orlando&rsquo\;s first commissioned work\, </span><em>The Secret River</em><span style="background-color:transparent\; font-family:roboto\,sans-serif\; font-size:11pt">.</span></span></p>\n\n<p><span style="color:rgb(0\, 0\, 0)"><span style="background-color:transparent\; font-family:roboto\,sans-serif\; font-size:11pt">Please consider making a donation to Opera Orlando to support this and future programs. Suggested donation for a single concert is $30 and for the entire series\, $75. Donate $75 today and get exclusive access to Opera Orlando&#39\;s virtual Fifth Anniversary Party on Sunday\, September 20\, 2020 at 2 p.m.</span></span></p>\n
LOCATION:To access the livestreams and to stay up to date with Opera Orlando\, "like" our Facebook page: www.facebook.com/operaorlando
UID:e.3221.5041317
SEQUENCE:3
DTSTAMP:20260420T170922Z
URL:https://business.winterpark.org/events/details/opera-on-park-concert-2-5041317
END:VEVENT

END:VCALENDAR
