BEGIN:VCALENDAR
VERSION:2.0
PRODID:-//ChamberMaster//Event Calendar 2.0//EN
METHOD:PUBLISH
X-PUBLISHED-TTL:P3D
REFRESH-INTERVAL:P3D
CALSCALE:GREGORIAN
BEGIN:VEVENT
DTSTART;VALUE=DATE:20200823
DTEND;VALUE=DATE:20200824
TRANSP:TRANSPARENT
X-MICROSOFT-CDO-ALLDAYEVENT:TRUE
SUMMARY:Opera on Park - Concert 1
DESCRIPTION:The Opera on Park Summer Concert Series kicks off Sunday\, August 23 at 2 p.m. with tenor Nathan Granner and soprano Jamie Chamberlain.\n\nMetropolitan Opera National Council winner and founding member of the Sony Masterworks recording group\, The American Tenor\, Nathan Granner\, and Greek-American soprano and Delos recording artist\, Jamie Chamberlain\, kick off the series from their home in California. Orlando audiences are in for a spectacular afternoon of song\, as this operatic husband and wife team brings us a mixture of powerhouse opera arias and duets. Later this season\, hear and see Mr. Granner live and in person when he makes his Opera Orlando debut as Don Jos  in Carmen.\n\nPlease consider making a donation to Opera Orlando to support this and future programs. Suggested donation for a single concert is $30 and for the entire series\, $75. Donate $75 today and get exclusive access to Opera Orlando's virtual Fifth Anniversary Party on Sunday\, September 20\, 2020 at 2 p.m.
X-ALT-DESC;FMTTYPE=text/html:<p><span style="color:rgb(0\, 0\, 0)"><span style="background-color:transparent\; font-family:roboto\,sans-serif\; font-size:11pt">The Opera on Park Summer Concert Series kicks off Sunday\, August 23 at 2 p.m. with tenor Nathan Granner and soprano Jamie Chamberlain.</span></span></p>\n\n<p><span style="color:rgb(0\, 0\, 0)"><span style="background-color:transparent\; font-family:roboto\,sans-serif\; font-size:11pt">Metropolitan Opera National Council winner and founding member of the Sony Masterworks recording group\, The American Tenor\, Nathan Granner\, and Greek-American soprano and Delos</span><em> </em><span style="background-color:transparent\; font-family:roboto\,sans-serif\; font-size:11pt">recording artist\, Jamie Chamberlain\, kick off the series from their home in California. Orlando audiences are in for a spectacular afternoon of song\, as this operatic husband and wife team brings us a mixture of powerhouse opera arias and duets. Later this season\, hear and see Mr. Granner live and in person when he makes his Opera Orlando debut as Don Jos&eacute\; in </span><em>Carmen</em><span style="background-color:transparent\; font-family:roboto\,sans-serif\; font-size:11pt">.</span></span></p>\n\n<p><span style="color:rgb(0\, 0\, 0)"><span style="background-color:transparent\; font-family:roboto\,sans-serif\; font-size:11pt">Please consider making a donation to Opera Orlando to support this and future programs. Suggested donation for a single concert is $30 and for the entire series\, $75. Donate $75 today and get exclusive access to Opera Orlando&#39\;s virtual Fifth Anniversary Party on Sunday\, September 20\, 2020 at 2 p.m.</span></span></p>\n
LOCATION:To access the livestreams and to stay up to date with Opera Orlando\, "like" our Facebook page: www.facebook.com/operaorlando
UID:e.3221.5041316
SEQUENCE:3
DTSTAMP:20260420T184338Z
URL:https://business.winterpark.org/events/details/opera-on-park-concert-1-5041316
END:VEVENT

END:VCALENDAR
