BEGIN:VCALENDAR
VERSION:2.0
PRODID:-//ChamberMaster//Event Calendar 2.0//EN
METHOD:PUBLISH
X-PUBLISHED-TTL:P3D
REFRESH-INTERVAL:P3D
CALSCALE:GREGORIAN
BEGIN:VEVENT
DTSTART:20170920T153000Z
DTEND:20170920T170000Z
X-MICROSOFT-CDO-ALLDAYEVENT:FALSE
SUMMARY:[No Name] - Sep 20 2017 11:30AM
DESCRIPTION:
X-ALT-DESC;FMTTYPE=text/html:
LOCATION:Location Varies
UID:e.3221.55058
SEQUENCE:3
DTSTAMP:20260423T204328Z
URL:https://business.winterpark.org/events/details/no-name-sep-20-2017-11-30am-09-20-2017-55058
END:VEVENT

END:VCALENDAR
