BEGIN:VCALENDAR
VERSION:2.0
PRODID:-//ChamberMaster//Event Calendar 2.0//EN
METHOD:PUBLISH
X-PUBLISHED-TTL:P3D
REFRESH-INTERVAL:P3D
CALSCALE:GREGORIAN
BEGIN:VEVENT
DTSTART:20171013T120000Z
DTEND:20171013T131500Z
X-MICROSOFT-CDO-ALLDAYEVENT:FALSE
SUMMARY:[No Name] - Oct 13 2017 8:00AM
DESCRIPTION:
X-ALT-DESC;FMTTYPE=text/html:
LOCATION:Winter Park Chamber of Commerce Community Room
UID:e.3221.55032
SEQUENCE:3
DTSTAMP:20260423T172932Z
URL:https://business.winterpark.org/events/details/no-name-oct-13-2017-8-00am-10-13-2017-55032
END:VEVENT

END:VCALENDAR
