BEGIN:VCALENDAR
VERSION:2.0
PRODID:-//ChamberMaster//Event Calendar 2.0//EN
METHOD:PUBLISH
X-PUBLISHED-TTL:P3D
REFRESH-INTERVAL:P3D
CALSCALE:GREGORIAN
BEGIN:VEVENT
DTSTART:20171116T220000Z
DTEND:20171117T010000Z
X-MICROSOFT-CDO-ALLDAYEVENT:FALSE
SUMMARY:[No Name] - Nov 16 2017 5:00PM
DESCRIPTION:
X-ALT-DESC;FMTTYPE=text/html:
LOCATION:On Park Avenue
UID:e.3221.55092
SEQUENCE:3
DTSTAMP:20260423T155046Z
URL:https://business.winterpark.org/events/details/no-name-nov-16-2017-5-00pm-11-16-2017-55092
END:VEVENT

END:VCALENDAR
