BEGIN:VCALENDAR
VERSION:2.0
PRODID:-//ChamberMaster//Event Calendar 2.0//EN
METHOD:PUBLISH
X-PUBLISHED-TTL:P3D
REFRESH-INTERVAL:P3D
CALSCALE:GREGORIAN
BEGIN:VEVENT
DTSTART:20170609T120000Z
DTEND:20170609T131500Z
X-MICROSOFT-CDO-ALLDAYEVENT:FALSE
SUMMARY:[No Name] - Jun 9 2017 8:00AM
DESCRIPTION:
X-ALT-DESC;FMTTYPE=text/html:
LOCATION:Winter Park Chamber of Commerce Community Center
UID:e.3221.55020
SEQUENCE:3
DTSTAMP:20260423T233454Z
URL:https://business.winterpark.org/events/details/no-name-jun-9-2017-8-00am-06-09-2017-55020
END:VEVENT

END:VCALENDAR
