BEGIN:VCALENDAR
VERSION:2.0
PRODID:-//ChamberMaster//Event Calendar 2.0//EN
METHOD:PUBLISH
X-PUBLISHED-TTL:P3D
REFRESH-INTERVAL:P3D
CALSCALE:GREGORIAN
BEGIN:VEVENT
DTSTART:20170807T153000Z
DTEND:20170807T170000Z
X-MICROSOFT-CDO-ALLDAYEVENT:FALSE
SUMMARY:[No Name] - Aug 7 2017 11:30AM
DESCRIPTION:
X-ALT-DESC;FMTTYPE=text/html:
LOCATION:
UID:e.3221.54951
SEQUENCE:3
DTSTAMP:20260423T204159Z
URL:https://business.winterpark.org/events/details/no-name-aug-7-2017-11-30am-08-07-2017-54951
END:VEVENT

END:VCALENDAR
