BEGIN:VCALENDAR
VERSION:2.0
PRODID:-//ChamberMaster//Event Calendar 2.0//EN
METHOD:PUBLISH
X-PUBLISHED-TTL:P3D
REFRESH-INTERVAL:P3D
CALSCALE:GREGORIAN
BEGIN:VEVENT
DTSTART:20170823T160000Z
DTEND:20170823T171500Z
X-MICROSOFT-CDO-ALLDAYEVENT:FALSE
SUMMARY:[No Name] - Aug 23 2017 12:00PM
DESCRIPTION:
X-ALT-DESC;FMTTYPE=text/html:
LOCATION:Winter Park Chamber of Commerce Community Room
UID:e.3221.55077
SEQUENCE:3
DTSTAMP:20260423T204132Z
URL:https://business.winterpark.org/events/details/no-name-aug-23-2017-12-00pm-08-23-2017-55077
END:VEVENT

END:VCALENDAR
