BEGIN:VCALENDAR
VERSION:2.0
PRODID:-//ChamberMaster//Event Calendar 2.0//EN
METHOD:PUBLISH
X-PUBLISHED-TTL:P3D
REFRESH-INTERVAL:P3D
CALSCALE:GREGORIAN
BEGIN:VEVENT
DTSTART:20201218T150000Z
DTEND:20201218T200000Z
X-MICROSOFT-CDO-ALLDAYEVENT:FALSE
SUMMARY:Morse Friday Nights
DESCRIPTION:In celebration of the holiday season\, for four consecutive Fridays (November 27 through December 18)\, appointments to visit the Museum will be free. Appointments must be made in advance and are available\, space permitting\, from 10 a.m. to 3 p.m. on Fridays. Please visit admissions.morsemuseum.org/mainstore to make an appointment.
X-ALT-DESC;FMTTYPE=text/html:In celebration of the holiday season\, for four consecutive Fridays (November 27 through December 18)\, appointments to visit the Museum will be free. Appointments must be made in advance and are available\, space permitting\, from 10 a.m. to 3 p.m. on Fridays. Please visit <a href="https://admissions.morsemuseum.org/mainstore">admissions.morsemuseum.org/mainstore</a> to make an appointment.
LOCATION:The Charles Hosmer Morse Museum of American Art 445 N. Park Ave. Winter Park\, FL 32789
UID:e.3221.5041392
SEQUENCE:3
DTSTAMP:20260420T070453Z
URL:https://business.winterpark.org/events/details/morse-friday-nights-12-18-2020-5041392
END:VEVENT

END:VCALENDAR
