BEGIN:VCALENDAR
VERSION:2.0
PRODID:-//ChamberMaster//Event Calendar 2.0//EN
METHOD:PUBLISH
X-PUBLISHED-TTL:P3D
REFRESH-INTERVAL:P3D
CALSCALE:GREGORIAN
BEGIN:VEVENT
DTSTART:20240218T200000Z
DTEND:20240218T213000Z
X-MICROSOFT-CDO-ALLDAYEVENT:FALSE
SUMMARY:Moravec & Campbell: Sanctuary Road
DESCRIPTION:John V. Sinclair\, conductor   Bach Chamber Choir and Orchestra\n\nLaquita Mitchell\, soprano\; Melody Wilson\, mezzo soprano\; Joshua Blue\, tenor\; Malcolm Merriweather\, baritone\; Dashon Burton\, bass\n\nPulitzer Prize-winning composer Paul Moravec collaborated with Pulitzer Prize - and GRAMMY Award-winning - lyricist Mark Campbell to create Sanctuary Road\, which was nominated for a GRAMMY as Best New Choral Work in 2021. This poignant oratorio draws on the compelling stories in William Still's memoir\, The Underground Railroad.\n\nThe Symphony No. 1 in e minor by Florence Price was completed in 1932 and first performed by the Chicago Symphony Orchestra. Price's first full-scale orchestral composition was the first symphony by an African American woman to be performed by a major American orchestra.\n\nTickets start at $15
X-ALT-DESC;FMTTYPE=text/html:<p>John V. Sinclair\, conductor &bull\; Bach Chamber Choir and Orchestra</p>\n\n<p>Laquita Mitchell\, soprano\; Melody Wilson\, mezzo soprano\; Joshua Blue\, tenor\; Malcolm Merriweather\, baritone\; Dashon Burton\, bass</p>\n\n<p>Pulitzer Prize-winning composer Paul Moravec collaborated with Pulitzer Prize - and GRAMMY Award-winning - lyricist Mark Campbell to create <em>Sanctuary Road\,</em> which was nominated for a <em>GRAMMY</em> as <em>Best New Choral Work</em> in 2021. This poignant oratorio draws on the compelling stories in William Still&rsquo\;s memoir\, <em>The Underground Railroad</em>.</p>\n\n<p>The <em>Symphony No. 1 in e minor</em> by Florence Price was completed in 1932 and first performed by the Chicago Symphony Orchestra. Price&#39\;s first full-scale orchestral composition was the first symphony by an African American woman to be performed by a major American orchestra.</p>\n\n<p>Tickets start at $15</p>\n
LOCATION:Knowles Memorial Chapel 1000 Holt Avenue Winter Park\, FL\, 32789
UID:e.3221.5050567
SEQUENCE:3
DTSTAMP:20260420T084656Z
URL:https://business.winterpark.org/events/details/moravec-and-price-02-18-2024-5050567
END:VEVENT

END:VCALENDAR
