BEGIN:VCALENDAR
VERSION:2.0
PRODID:-//ChamberMaster//Event Calendar 2.0//EN
METHOD:PUBLISH
X-PUBLISHED-TTL:P3D
REFRESH-INTERVAL:P3D
CALSCALE:GREGORIAN
BEGIN:VEVENT
DTSTART:20200426T190000Z
DTEND:20200426T210000Z
X-MICROSOFT-CDO-ALLDAYEVENT:FALSE
SUMMARY:Mendelssohn's Elijah
DESCRIPTION:Felix Mendelssohn's most enduring oratorio\, Elijah\, tells the dramatic story of the biblical prophet and is filled with glorious arias and choruses. Widely perceived as his crowning achievement\, Elijah "exhibits all the profound skill of the accomplished musician\, all the brilliant imagination of the enlightened poet" (Sir George Macferren).
X-ALT-DESC;FMTTYPE=text/html:<span style="font-size:14px"><span style="font-family:arial">Felix Mendelssohn&rsquo\;s most enduring oratorio\, </span><em>Elijah\,</em><span style="font-family:arial"> tells the dramatic story of the biblical prophet and is filled with glorious arias and choruses. Widely perceived as his crowning achievement\, Elijah &ldquo\;exhibits all the profound skill of the accomplished musician\, all the brilliant imagination of the enlightened poet&rdquo\; (Sir George Macferren).</span></span>
LOCATION:The Knowles Memorial Chapel in Winter Park. 1000 Holt Avenue\, Winter Park\, Florida 32789.
UID:e.3221.5037932
SEQUENCE:3
DTSTAMP:20260421T034839Z
URL:https://business.winterpark.org/events/details/mendelssohn-s-elijah-04-26-2020-5037932
END:VEVENT

END:VCALENDAR
