BEGIN:VCALENDAR
VERSION:2.0
PRODID:-//ChamberMaster//Event Calendar 2.0//EN
METHOD:PUBLISH
X-PUBLISHED-TTL:P3D
REFRESH-INTERVAL:P3D
CALSCALE:GREGORIAN
BEGIN:VEVENT
DTSTART:20180110T190000Z
DTEND:20180110T203000Z
X-MICROSOFT-CDO-ALLDAYEVENT:FALSE
SUMMARY:Member Orientation
DESCRIPTION:Unlock the advantages of your Chamber membership. Activate your Chamber network. Connect to resources to grow your business.
X-ALT-DESC;FMTTYPE=text/html:Unlock the advantages of your Chamber membership. Activate your Chamber network. Connect to resources to grow your business.&nbsp\;
LOCATION:Winter Park Chamber of Commerce 151 West Lyman Avenue Winter Park\, FL 32789
UID:e.3221.5034703
SEQUENCE:3
DTSTAMP:20260423T145936Z
URL:https://business.winterpark.org/events/details/member-orientation-5034703
END:VEVENT

END:VCALENDAR
