BEGIN:VCALENDAR
VERSION:2.0
PRODID:-//ChamberMaster//Event Calendar 2.0//EN
METHOD:PUBLISH
X-PUBLISHED-TTL:P3D
REFRESH-INTERVAL:P3D
CALSCALE:GREGORIAN
BEGIN:VEVENT
DTSTART:20180123T223000Z
DTEND:20180124T003000Z
X-MICROSOFT-CDO-ALLDAYEVENT:FALSE
SUMMARY:Meet the Board Reception
DESCRIPTION:Meet\, greet and network with the 2018 Winter Park Chamber of Commerce Board of Directors\, as well as local community leaders and business executives. Light bites and drinks will be served.
X-ALT-DESC;FMTTYPE=text/html:<span style="font-family: Arial\, Helvetica\, sans-serif\; font-size: 12px\; background-color: rgb(246\, 246\, 246)\;">Meet\, greet and network with the 2018 Winter Park Chamber of Commerce Board of Directors\, as well as local community leaders and business executives. Light bites and drinks will be served.</span>
LOCATION:University Club of Winter Park 841 N. Park Avenue Winter Park\, FL 32789
UID:e.3221.5034838
SEQUENCE:3
DTSTAMP:20260423T163132Z
URL:https://business.winterpark.org/events/details/meet-the-board-reception-5034838
END:VEVENT

END:VCALENDAR
