BEGIN:VCALENDAR
VERSION:2.0
PRODID:-//ChamberMaster//Event Calendar 2.0//EN
METHOD:PUBLISH
X-PUBLISHED-TTL:P3D
REFRESH-INTERVAL:P3D
CALSCALE:GREGORIAN
BEGIN:VEVENT
DTSTART:20180502T221500Z
DTEND:20180503T000000Z
X-MICROSOFT-CDO-ALLDAYEVENT:FALSE
SUMMARY:Macrame Workshop
DESCRIPTION:Lets Make some Macrame!\n\nFindyourFiber (a local creative) will be hosting a Macrame 101 Workshop at our space.\n\nCome learn to make a traditional macrame wall hanging OR hanging planter - your choice!\n\nTickets can be purchased at findyourfiber.com
X-ALT-DESC;FMTTYPE=text/html:Lets Make some Macrame!<br />\nFindyourFiber (a local creative) will be hosting a Macrame 101 Workshop at our space.<br />\nCome learn to make a traditional macrame wall hanging OR hanging planter - your choice!<br />\nTickets can be purchased at findyourfiber.com&nbsp\;
LOCATION:New General 155 E New England Ave. Winter Park Fl 32789
UID:e.3221.5035281
SEQUENCE:3
DTSTAMP:20260423T043159Z
URL:https://business.winterpark.org/events/details/macrame-workshop-5035281
END:VEVENT

END:VCALENDAR
