BEGIN:VCALENDAR
VERSION:2.0
PRODID:-//ChamberMaster//Event Calendar 2.0//EN
METHOD:PUBLISH
X-PUBLISHED-TTL:P3D
REFRESH-INTERVAL:P3D
CALSCALE:GREGORIAN
BEGIN:VEVENT
DTSTART;VALUE=DATE:20200715
DTEND;VALUE=DATE:20200817
TRANSP:TRANSPARENT
X-MICROSOFT-CDO-ALLDAYEVENT:TRUE
SUMMARY:Love at First Bite 30
DESCRIPTION:
X-ALT-DESC;FMTTYPE=text/html:
LOCATION:Bulla Gastro Bar 110 S. Orlando Ave Suite 7 Winter Park\, Fl. 32789
UID:e.3221.5041310
SEQUENCE:3
DTSTAMP:20260420T184117Z
URL:https://business.winterpark.org/events/details/love-at-first-bite-30-5041310
END:VEVENT

END:VCALENDAR
