BEGIN:VCALENDAR
VERSION:2.0
PRODID:-//ChamberMaster//Event Calendar 2.0//EN
METHOD:PUBLISH
X-PUBLISHED-TTL:P3D
REFRESH-INTERVAL:P3D
CALSCALE:GREGORIAN
BEGIN:VEVENT
DTSTART:20231107T230000Z
DTEND:20231108T000000Z
X-MICROSOFT-CDO-ALLDAYEVENT:FALSE
SUMMARY:Lecture: Slings and Arrows: The Outrageous Fortune of Saint Sebastian
DESCRIPTION:Join William Underwood Eiland\, Ph.D. Director Emeritus\, Georgia Museum of Art\, to explore the fascinating artistic history of Saint Sebastian\, invoked during plagues and revered anew in modern times. \n\nJoin in person or virtually via Linktree
X-ALT-DESC;FMTTYPE=text/html:<div>\n<p><span style="color:rgb(36\, 36\, 36)\; font-family:inherit">Join William Underwood Eiland\, Ph.D. Director Emeritus\, Georgia Museum of Art\,&nbsp\;to e</span>xplore the fascinating artistic history of Saint Sebastian\, invoked during plagues and revered anew in modern times.&nbsp\;</p>\n\n<p><em>Join in person or virtually via&nbsp\;</em><a href="https://linktr.ee/rollinsmuseum" rel="noopener noreferrer" style="font-family: inherit\; margin: 0px\; padding: 0px\; border: 0px\; outline: 0px\; font-weight: inherit\; font-style: inherit\; vertical-align: baseline\;" target="_blank"><em>Linktree</em></a></p>\n\n<div>&nbsp\;</div>\n</div>\n
LOCATION:Rollins Museum of Art
UID:e.3221.5051698
SEQUENCE:3
DTSTAMP:20260420T134911Z
URL:https://business.winterpark.org/events/details/lecture-slings-and-arrows-the-outrageous-fortune-of-saint-sebastian-5051698
END:VEVENT

END:VCALENDAR
