BEGIN:VCALENDAR
VERSION:2.0
PRODID:-//ChamberMaster//Event Calendar 2.0//EN
METHOD:PUBLISH
X-PUBLISHED-TTL:P3D
REFRESH-INTERVAL:P3D
CALSCALE:GREGORIAN
BEGIN:VEVENT
DTSTART:20240221T193000Z
DTEND:20240221T203000Z
X-MICROSOFT-CDO-ALLDAYEVENT:FALSE
SUMMARY:Lecture: "Politics and Pageantry: Hiram Powers’ Greek Slave\, Frederick Douglass\, and the Capital City"
DESCRIPTION:Sarah Cash Associate Curator\, American and British Paintings\, National Gallery of Art\, Washington\, D.C.
X-ALT-DESC;FMTTYPE=text/html:Sarah Cash Associate Curator\, American and British Paintings\, National Gallery of Art\, Washington\, D.C.
LOCATION:Jeannette G. and Hugh F. McKean Pavilion\, 161 West Canton Avenue
UID:e.3221.5051936
SEQUENCE:3
DTSTAMP:20260420T090823Z
URL:https://business.winterpark.org/events/details/lecture-politics-and-pageantry-hiram-powers-greek-slave-frederick-douglass-and-the-capital-city-5051936
END:VEVENT

END:VCALENDAR
