BEGIN:VCALENDAR
VERSION:2.0
PRODID:-//ChamberMaster//Event Calendar 2.0//EN
METHOD:PUBLISH
X-PUBLISHED-TTL:P3D
REFRESH-INTERVAL:P3D
CALSCALE:GREGORIAN
BEGIN:VEVENT
DTSTART:20240124T193000Z
DTEND:20240124T203000Z
X-MICROSOFT-CDO-ALLDAYEVENT:FALSE
SUMMARY:Lecture: "Marcus & Co.: A New York Jeweler in the Victorian Era"
DESCRIPTION:Beth Carver Wees and Sheila Smithie Curator Emerita\, The American Wing\, The Metropolitan Museum of Art\, New York City Fellow\, Gemmological Association of Great Britain
X-ALT-DESC;FMTTYPE=text/html:Beth Carver Wees and Sheila Smithie Curator Emerita\, The American Wing\, The Metropolitan Museum of Art\, New York City Fellow\, Gemmological Association of Great Britain
LOCATION:Jeannette G. and Hugh F. McKean Pavilion\, 161 West Canton Avenue
UID:e.3221.5051935
SEQUENCE:3
DTSTAMP:20260420T102540Z
URL:https://business.winterpark.org/events/details/lecture-marcus-co-a-new-york-jeweler-in-the-victorian-era-5051935
END:VEVENT

END:VCALENDAR
