BEGIN:VCALENDAR
VERSION:2.0
PRODID:-//ChamberMaster//Event Calendar 2.0//EN
METHOD:PUBLISH
X-PUBLISHED-TTL:P3D
REFRESH-INTERVAL:P3D
CALSCALE:GREGORIAN
BEGIN:VEVENT
DTSTART:20200310T220000Z
DTEND:20200310T230000Z
X-MICROSOFT-CDO-ALLDAYEVENT:FALSE
SUMMARY:Lecture\, Dr. Cynthia Becker\; Silk\, Amber\, and Wool: A History of North African Dress
DESCRIPTION:This lecture considers the historically complex and diverse styles of dress that developed in North Africa\, concentrating on the late nineteenth and early twentieth centuries. It considers how handwoven wool cloaks\, massive amber necklaces\, and embroidered silk waistcoats were the result of extensive trade networks and served as prominent status symbols.
X-ALT-DESC;FMTTYPE=text/html:This lecture considers the historically complex and diverse styles of dress that developed in North Africa\, concentrating on the late nineteenth and early twentieth centuries. It considers how handwoven wool cloaks\, massive amber necklaces\, and embroidered silk waistcoats were the result of extensive trade networks and served as prominent status symbols.
LOCATION:Cornell Fine Arts Museum
UID:e.3221.5039363
SEQUENCE:3
DTSTAMP:20260421T044316Z
URL:https://business.winterpark.org/events/details/lecture-dr-cynthia-becker-silk-amber-and-wool-a-history-of-north-african-dress-5039363
END:VEVENT

END:VCALENDAR
