BEGIN:VCALENDAR
VERSION:2.0
PRODID:-//ChamberMaster//Event Calendar 2.0//EN
METHOD:PUBLISH
X-PUBLISHED-TTL:P3D
REFRESH-INTERVAL:P3D
CALSCALE:GREGORIAN
BEGIN:VEVENT
DTSTART:20190224T200000Z
DTEND:20190224T220000Z
X-MICROSOFT-CDO-ALLDAYEVENT:FALSE
SUMMARY:Itamar Zorman\, violin
DESCRIPTION:Itamar Zorman\, violin Adam Golka\, piano Winner of the 2011 International Tchaikovsky Competition and the 2013 Avery Fisher Career Grant\, Itamar Zorman is recognized for his emotionally gripping performances and gift for musical storytelling.
X-ALT-DESC;FMTTYPE=text/html:Itamar Zorman\, violin Adam Golka\, piano Winner of the 2011 International Tchaikovsky Competition and the 2013 Avery Fisher Career Grant\, Itamar Zorman is recognized for his emotionally gripping performances and gift for musical storytelling.
LOCATION:Tiedtke Concert Hall
UID:e.3221.5035573
SEQUENCE:3
DTSTAMP:20260422T050531Z
URL:https://business.winterpark.org/events/details/itamar-zorman-violin-5035573
END:VEVENT

END:VCALENDAR
