BEGIN:VCALENDAR
VERSION:2.0
PRODID:-//ChamberMaster//Event Calendar 2.0//EN
METHOD:PUBLISH
X-PUBLISHED-TTL:P3D
REFRESH-INTERVAL:P3D
CALSCALE:GREGORIAN
BEGIN:VEVENT
DTSTART:20240301T003000Z
DTEND:20240301T020000Z
X-MICROSOFT-CDO-ALLDAYEVENT:FALSE
SUMMARY:Insights and Sounds: Literary Folk Songs and Fairy Tales
DESCRIPTION:John V. Sinclair\, conductor   Bach Festival Orchestra\n\nClara Rottsolk\, soprano\; Amanda Crider\, mezzo soprano\; John Grau\, tenor\; Brandon Hendrickson\, bass\n\nThe Pulitzer Prize-winning The Little Match Girl Passion was composed by David Lang\, inspired by the Hans Christian Andersen story\, and influenced by Bach's St. Matthew Passion. Aesop's Fables\, by Richard Maltz\, offers important life lessons while describing the "world of childhood."\n\nTickets start at $15
X-ALT-DESC;FMTTYPE=text/html:<p>John V. Sinclair\, conductor &bull\; Bach Festival Orchestra</p>\n\n<p>Clara Rottsolk\, soprano\; Amanda Crider\, mezzo soprano\; John Grau\, tenor\; Brandon Hendrickson\, bass</p>\n\n<p>The Pulitzer Prize-winning <em>The Little Match Girl Passion</em> was composed by David Lang\, inspired by the Hans Christian Andersen story\, and influenced by Bach&rsquo\;s <em>St. Matthew Passion</em>. <em>Aesop&rsquo\;s Fables</em>\, by Richard Maltz\, offers important life lessons while describing the &ldquo\;world of childhood.&rdquo\;</p>\n\n<p>Tickets start at $15</p>\n
LOCATION:Tiedtke Concert Hall 1000 Holt Avenue Winter Park\, FL\, 32789
UID:e.3221.5050570
SEQUENCE:3
DTSTAMP:20260420T085232Z
URL:https://business.winterpark.org/events/details/insights-and-sounds-literary-folk-songs-and-fairy-tales-5050570
END:VEVENT

END:VCALENDAR
