BEGIN:VCALENDAR
VERSION:2.0
PRODID:-//ChamberMaster//Event Calendar 2.0//EN
METHOD:PUBLISH
X-PUBLISHED-TTL:P3D
REFRESH-INTERVAL:P3D
CALSCALE:GREGORIAN
BEGIN:VEVENT
DTSTART:20200704T133000Z
DTEND:20200704T200000Z
X-MICROSOFT-CDO-ALLDAYEVENT:FALSE
SUMMARY:Independence Day Open House
DESCRIPTION:Join us for free admission to the Morse Museum for its 25th Independence Day Open House in conjunction with the City of Winter Park's Olde Fashioned 4th of July Celebration in Central Park.
X-ALT-DESC;FMTTYPE=text/html:Join us for free admission to the Morse Museum for its 25th Independence Day Open House in conjunction with the City of Winter Park&#39\;s Olde Fashioned 4th of July Celebration in Central Park.
LOCATION:The Charles Hosmer Morse Museum of American Art\, 445 N. Park Avenue\, Winter Park
UID:e.3221.5038531
SEQUENCE:3
DTSTAMP:20260420T184337Z
URL:https://business.winterpark.org/events/details/independence-day-open-house-07-04-2020-5038531
END:VEVENT

END:VCALENDAR
