BEGIN:VCALENDAR
VERSION:2.0
PRODID:-//ChamberMaster//Event Calendar 2.0//EN
METHOD:PUBLISH
X-PUBLISHED-TTL:P3D
REFRESH-INTERVAL:P3D
CALSCALE:GREGORIAN
BEGIN:VEVENT
DTSTART:20180308T230000Z
DTEND:20180309T020000Z
X-MICROSOFT-CDO-ALLDAYEVENT:FALSE
SUMMARY:Guys Night Out
DESCRIPTION:Join us for a guys night out at M Bar on March 8th from 6:00pm - 9:00pm! \n\n \n\nThe M Bar showcases over 60 classic cars from the 1950's\, 60's and 70's\, manufactured in both Europe and the United States. Come out\, buckle up and network in an atmosphere like no other! \n\n \n\nThe event will take place in a private wine room on the first floor. Tickets are $25 and include 2 drink tickets along with appetizers.
X-ALT-DESC;FMTTYPE=text/html:<div new="" times=""><br />\n<span style="font-size: 16px\;"><span style="font-family: arial\;"><span lucida="" sans="" style="color: rgb(17\, 52\, 79)\;">Join us for a guys night out at M Bar on March 8th from 6:00pm - 9:00pm! </span></span></span></div>\n\n<div new="" times="">&nbsp\;</div>\n\n<div new="" times=""><span style="font-size: 16px\;"><span style="font-family: arial\;"><span lucida="" sans="" style="color: rgb(17\, 52\, 79)\;">The M Bar showcases over 60 classic cars from the 1950&rsquo\;s\, 60&rsquo\;s and 70&rsquo\;s\, manufactured in both Europe and the United States</span><span lucida="" sans="" style="color: rgb(17\, 52\, 79)\;">. </span><span lucida="" sans="" style="color: rgb(17\, 52\, 79)\;">Come out\, buckle up and network in an atmosphere like no other! </span></span></span></div>\n\n<div new="" times="">&nbsp\;</div>\n\n<div new="" times=""><span style="font-size: 16px\;"><span style="font-family: arial\;"><span style="color: rgb(17\, 52\, 79)\;">The event will take place in a private wine room on the first floor. Tickets are $25&nbsp\;and include 2 drink tickets along with appetizers. </span></span></span></div>\n
LOCATION:M Bar 2000 N. Orange Ave Suite 100 Orlando\, FL 32804
UID:e.3221.5035227
SEQUENCE:3
DTSTAMP:20260423T095304Z
URL:https://business.winterpark.org/events/details/guys-night-out-5035227
END:VEVENT

END:VCALENDAR
