BEGIN:VCALENDAR
VERSION:2.0
PRODID:-//ChamberMaster//Event Calendar 2.0//EN
METHOD:PUBLISH
X-PUBLISHED-TTL:P3D
REFRESH-INTERVAL:P3D
CALSCALE:GREGORIAN
BEGIN:VEVENT
DTSTART:20231111T130000Z
DTEND:20231111T210000Z
X-MICROSOFT-CDO-ALLDAYEVENT:FALSE
SUMMARY:GROWvember Fall Fest and Plant Sale
DESCRIPTION:Friday\, Nov 10 2023 | 2:00 PM   6:00 PM\n\nSaturday\, Nov 11 2023 | 8:00 AM   4:00 PM\n\nGROWvember\, Mead Botanical Garden's annual plant sale\, features a fabulous array of high quality plant vendors and exhibitors\, kid's activities\, live music\, food trucks\, beer garden and more!\n\nNo admission and parking is free. Event is held rain or shine.\n\nShoppers will find a wide selection of beautiful plants including annuals\, perennials\, house plants\, native plants that attract hummingbirds and pollinators\, bromeliads\, herbs\, succulents\, ferns\, orchids\, medicinal plants and many other specialty plants. Tree give-away by Winter Park's Urban Forestry department.
X-ALT-DESC;FMTTYPE=text/html:<h3>Friday\, Nov 10 2023 | 2:00 PM &ndash\; 6:00 PM<br />\nSaturday\, Nov 11 2023 | 8:00 AM &ndash\; 4:00 PM</h3>\n\n<p>GROWvember\, Mead Botanical Garden&rsquo\;s annual plant sale\, features a fabulous array of high quality plant vendors and exhibitors\, kid&rsquo\;s activities\, live music\, food trucks\, beer garden and more!</p>\n\n<p>No admission and parking is free. Event is held rain or shine.</p>\n\n<p>Shoppers will find a wide selection of beautiful plants including annuals\, perennials\, house plants\, native plants that attract hummingbirds and pollinators\, bromeliads\, herbs\, succulents\, ferns\, orchids\, medicinal plants and many other specialty plants. Tree give-away by Winter Park&rsquo\;s Urban Forestry department.</p>\n
LOCATION:Website link: https://www.meadgarden.org/activities/growvember-plant-sale/
UID:e.3221.5050862
SEQUENCE:3
DTSTAMP:20260420T134859Z
URL:https://business.winterpark.org/events/details/growvember-fall-fest-and-plant-sale-11-11-2023-5050862
END:VEVENT

END:VCALENDAR
