BEGIN:VCALENDAR
VERSION:2.0
PRODID:-//ChamberMaster//Event Calendar 2.0//EN
METHOD:PUBLISH
X-PUBLISHED-TTL:P3D
REFRESH-INTERVAL:P3D
CALSCALE:GREGORIAN
BEGIN:VEVENT
DTSTART:20200710T180000Z
DTEND:20200710T220000Z
X-MICROSOFT-CDO-ALLDAYEVENT:FALSE
SUMMARY:Grand Opening & Ribbon Cutting with the Chamber. Marie's Manor Assisted Living in Winter Park.
DESCRIPTION:Come celebrate the Grand Opening of this newly established Assisted Living Home in Winter Park. Marie's Manor Assisted Living.\n\n\n\nLight food\, drinks and gifts.\n\n\n\nInspired by her mother Janelle Lopez has made it her mission to care for your loved ones like family.\n\nHeld outdoors to maintain the safety of all as we remain respectful of Social Distancing.
X-ALT-DESC;FMTTYPE=text/html:<span style="color:rgba(0\, 0\, 0\, 0.9)\; font-family:-apple-system\,system-ui\,blinkmacsystemfont\,segoe ui\,roboto\,helvetica neue\,fira sans\,ubuntu\,oxygen\,oxygen sans\,cantarell\,droid sans\,apple color emoji\,segoe ui emoji\,segoe ui symbol\,lucida grande\,helvetica\,arial\,sans-serif\; font-size:14px">Come celebrate the Grand Opening of this newly established Assisted Living Home in Winter Park. Marie&#39\;s Manor Assisted Living.</span><br />\n<br />\nLight food\, drinks and gifts.<br />\n<br />\n<span style="color:rgba(0\, 0\, 0\, 0.9)\; font-family:-apple-system\,system-ui\,blinkmacsystemfont\,segoe ui\,roboto\,helvetica neue\,fira sans\,ubuntu\,oxygen\,oxygen sans\,cantarell\,droid sans\,apple color emoji\,segoe ui emoji\,segoe ui symbol\,lucida grande\,helvetica\,arial\,sans-serif\; font-size:14px">Inspired by her mother Janelle Lopez has made it her mission to care for your loved ones like family.</span><br />\n<span style="color:rgba(0\, 0\, 0\, 0.9)\; font-family:-apple-system\,system-ui\,blinkmacsystemfont\,segoe ui\,roboto\,helvetica neue\,fira sans\,ubuntu\,oxygen\,oxygen sans\,cantarell\,droid sans\,apple color emoji\,segoe ui emoji\,segoe ui symbol\,lucida grande\,helvetica\,arial\,sans-serif\; font-size:14px">Held outdoors to maintain the safety of all as we remain respectful of Social Distancing.</span>
LOCATION:4934 Seminole Ave. Winter Park\, FL 32792
UID:e.3221.5041101
SEQUENCE:3
DTSTAMP:20260421T025553Z
URL:https://business.winterpark.org/events/details/grand-opening-ribbon-cutting-with-the-chamber-marie-s-manor-assisted-living-in-winter-park-5041101
END:VEVENT

END:VCALENDAR
