BEGIN:VCALENDAR
VERSION:2.0
PRODID:-//ChamberMaster//Event Calendar 2.0//EN
METHOD:PUBLISH
X-PUBLISHED-TTL:P3D
REFRESH-INTERVAL:P3D
CALSCALE:GREGORIAN
BEGIN:VEVENT
DTSTART:20200421T163000Z
DTEND:20200421T173000Z
X-MICROSOFT-CDO-ALLDAYEVENT:FALSE
SUMMARY:Gallery Talks: Student Artists
DESCRIPTION:Join our graduating Senior Studio Students in the gallery as they share their experiences creating their final projects and discuss the technical and thematic aspects of their works.
X-ALT-DESC;FMTTYPE=text/html:Join our graduating Senior Studio Students in the gallery as they share their experiences creating their final projects and discuss the technical and thematic aspects of their works.
LOCATION:Cornell Fine Arts Museum
UID:e.3221.5039370
SEQUENCE:3
DTSTAMP:20260421T043635Z
URL:https://business.winterpark.org/events/details/gallery-talks-student-artists-04-21-2020-5039370
END:VEVENT

END:VCALENDAR
