BEGIN:VCALENDAR
VERSION:2.0
PRODID:-//ChamberMaster//Event Calendar 2.0//EN
METHOD:PUBLISH
X-PUBLISHED-TTL:P3D
REFRESH-INTERVAL:P3D
CALSCALE:GREGORIAN
BEGIN:VEVENT
DTSTART:20231118T160000Z
DTEND:20231118T164000Z
X-MICROSOFT-CDO-ALLDAYEVENT:FALSE
SUMMARY:Frida Kahlo and the Bravest Girl in the World
DESCRIPTION:Opera Orlando's "Opera on the Town" series presents FRIDA KAHLO AND THE BRAVEST GIRL IN THE WORLD with music by Joe Illick and a libretto by Mark Campbell. Adapted from the book by Laurence Anholt\, this children's opera centers around Mariana\, a young girl in Mexico who befriends the artist Frida Kahlo. While Frida paints her portrait\, Mariana learns about friendship\, belief in oneself\, and overcoming her fears. Sung in "spanglish\," this 40-minute opera is entertaining for all ages!\n\n \n\n*Audience encouraged to bring outdoor chairs and blankets as performance will take place outside in the Lake Eola Heights Community Garden.
X-ALT-DESC;FMTTYPE=text/html:<p><span style="font-size:14px"><span style="color:rgb(0\, 0\, 0)"><span style="font-family:arial\,sans-serif">Opera Orlando&rsquo\;s &ldquo\;Opera on the Town&rdquo\; series presents </span><strong>FRIDA KAHLO AND THE BRAVEST GIRL IN THE WORLD </strong><span style="font-family:arial\,sans-serif">with music by </span><strong>Joe Illick</strong><span style="font-family:arial\,sans-serif"> and a libretto by </span><strong>Mark Campbell</strong><span style="font-family:arial\,sans-serif">. Adapted from the book</span><em> </em><span style="font-family:arial\,sans-serif">by </span><strong>Laurence Anholt\, </strong><span style="font-family:arial\,sans-serif">this children&rsquo\;s opera centers around Mariana\, a young girl in Mexico who befriends the artist Frida Kahlo. While Frida paints her portrait\, Mariana learns about friendship\, belief in oneself\, and overcoming her fears. Sung in &ldquo\;spanglish\,&rdquo\; this 40-minute opera is entertaining for all ages!</span></span></span><br />\n&nbsp\;</p>\n\n<p><span style="font-size:14px"><span style="color:rgb(0\, 0\, 0)"><span style="font-family:arial\,sans-serif">*Audience encouraged to bring outdoor chairs and blankets as performance will take place outside in the Lake Eola Heights Community Garden.</span></span></span></p>\n
LOCATION:Broadway United Methodist Church 406 E Amelia St\, Orlando FL\, 32803
UID:e.3221.5051911
SEQUENCE:3
DTSTAMP:20260420T134911Z
URL:https://business.winterpark.org/events/details/frida-kahlo-and-the-bravest-girl-in-the-world-11-18-2023-5051911
END:VEVENT

END:VCALENDAR
