BEGIN:VCALENDAR
VERSION:2.0
PRODID:-//ChamberMaster//Event Calendar 2.0//EN
METHOD:PUBLISH
X-PUBLISHED-TTL:P3D
REFRESH-INTERVAL:P3D
CALSCALE:GREGORIAN
BEGIN:VEVENT
DTSTART:20200909T160000Z
DTEND:20200909T170000Z
X-MICROSOFT-CDO-ALLDAYEVENT:FALSE
SUMMARY:For Freedoms Town Hall: On the Carceral Landscape and Art as Activism
DESCRIPTION:Police brutality and mass incarceration are among the most crucial legal and social issues of our time and their study illuminates the ways in which "We the People" conceive of ourselves and our societal responsibilities. Art is an important vehicle for civic participation and this town hall initiates a dialog on art and mass incarceration between Omari Booker\, an artist participating in the upcoming NEA-sponsored exhibition Illuminating the Darkness: Our Carceral Landscape\, Gisela Carbonell\, Curator at the Cornell Fine Arts Museum\, and Keri Watson\, Associate Professor of Art History at the University of Central Florida. Zoom link: bit.ly/forfreedoms
X-ALT-DESC;FMTTYPE=text/html:Police brutality and mass incarceration are among the most crucial legal and social issues of our time and their study illuminates the ways in which &ldquo\;We the People&rdquo\; conceive of ourselves and our societal responsibilities. Art is an important vehicle for civic participation and this town hall initiates a dialog on art and mass incarceration between Omari Booker\, an artist participating in the upcoming NEA-sponsored exhibition Illuminating the Darkness: Our Carceral Landscape\, Gisela Carbonell\, Curator at the Cornell Fine Arts Museum\, and Keri Watson\, Associate Professor of Art History at the University of Central Florida. Zoom link: bit.ly/forfreedoms
LOCATION:Zoom link: bit.ly/forfreedoms
UID:e.3221.5041338
SEQUENCE:3
DTSTAMP:20260420T161547Z
URL:https://business.winterpark.org/events/details/for-freedoms-town-hall-on-the-carceral-landscape-and-art-as-activism-5041338
END:VEVENT

END:VCALENDAR
