BEGIN:VCALENDAR
VERSION:2.0
PRODID:-//ChamberMaster//Event Calendar 2.0//EN
METHOD:PUBLISH
X-PUBLISHED-TTL:P3D
REFRESH-INTERVAL:P3D
CALSCALE:GREGORIAN
BEGIN:VEVENT
DTSTART:20200923T210000Z
DTEND:20200923T230000Z
X-MICROSOFT-CDO-ALLDAYEVENT:FALSE
SUMMARY:Florida Tech Orlando Virtual Information Session
DESCRIPTION:Join us for our live\, virtual information session via Zoom. Talk to our faculty and staff about pursuing a graduate program at Florida Tech Orlando and get your application fee waived! To RSVP for Florida Tech Orlando's virtual information session on Wednesday\, September 23\, 2020\, please visit https://admissions.fit.edu/register/orlando_9.23.20
X-ALT-DESC;FMTTYPE=text/html:Join us for our live\, virtual information session via Zoom. Talk to our faculty and staff about pursuing a graduate program at Florida Tech Orlando and get your application fee waived! To RSVP for Florida Tech Orlando&#39\;s virtual information session on Wednesday\, September 23\, 2020\, please visit https://admissions.fit.edu/register/orlando_9.23.20
LOCATION:Virtual
UID:e.3221.5041335
SEQUENCE:3
DTSTAMP:20260420T140315Z
URL:https://business.winterpark.org/events/details/florida-tech-orlando-virtual-information-session-5041335
END:VEVENT

END:VCALENDAR
