BEGIN:VCALENDAR
VERSION:2.0
PRODID:-//ChamberMaster//Event Calendar 2.0//EN
METHOD:PUBLISH
X-PUBLISHED-TTL:P3D
REFRESH-INTERVAL:P3D
CALSCALE:GREGORIAN
BEGIN:VEVENT
DTSTART;VALUE=DATE:20201008
DTEND;VALUE=DATE:20201026
TRANSP:TRANSPARENT
X-MICROSOFT-CDO-ALLDAYEVENT:TRUE
SUMMARY:Florida Jewish Book Fest 2020
DESCRIPTION:VIRTUAL EVENT SERIES -- We are just days away from the start of an amazing month-long event series with a diverse and fascinating array of world-renowned authors. To buy your books and a Book Fest Fast Pass\, which gets you into all special events and author meet-and-greets\, go to https://www.writersblockbookstore.com/florida-jewish-book... 15% of proceeds benefit the Jewish Community Center of Greater Orlando!
X-ALT-DESC;FMTTYPE=text/html:VIRTUAL EVENT SERIES -- We are just days away from the start of an amazing month-long event series with a diverse and fascinating array of world-renowned authors. To buy your books and a Book Fest Fast Pass\, which gets you into all special events and author meet-and-greets\, go to https://www.writersblockbookstore.com/florida-jewish-book... 15% of proceeds benefit the Jewish Community Center of Greater Orlando!
LOCATION:Virtual
UID:e.3221.5041376
SEQUENCE:3
DTSTAMP:20260420T170918Z
URL:https://business.winterpark.org/events/details/florida-jewish-book-fest-2020-5041376
END:VEVENT

END:VCALENDAR
