BEGIN:VCALENDAR
VERSION:2.0
PRODID:-//ChamberMaster//Event Calendar 2.0//EN
METHOD:PUBLISH
X-PUBLISHED-TTL:P3D
REFRESH-INTERVAL:P3D
CALSCALE:GREGORIAN
BEGIN:VEVENT
DTSTART:20180523T223000Z
DTEND:20180524T000000Z
X-MICROSOFT-CDO-ALLDAYEVENT:FALSE
SUMMARY:Fit Couple Cooks at Quantum Leap Winery
DESCRIPTION:On Wednesday\, May 23\, Writer's Block Bookstore in partnership with Quantum Leap Winery is proud to announce YouTube health and wellness superstars Fit Couple Cooks (comprising husband and wife duo Stephanie Tornatore and Adam Bannon) as the third speakers in our Wine   Wisdom   Words series.
X-ALT-DESC;FMTTYPE=text/html:<span style="color:rgb(29\, 33\, 41)\; font-family:helvetica\,arial\,sans-serif\; font-size:14px">On Wednesday\, May 23\, Writer&#39\;s Block Bookstore in partnership with Quantum Leap Winery is proud to announce YouTube health and wellness superstars Fit Couple Cooks (comprising husband and wife duo Stephanie Tornatore and Adam Bannon) as the third speakers in our Wine &loz\; Wisdom &loz\; Words series.</span>
LOCATION:Quantum Leap Winery 1312 WIlfred Drive Orlando\, FL 32803
UID:e.3221.5035300
SEQUENCE:3
DTSTAMP:20260423T044232Z
URL:https://business.winterpark.org/events/details/fit-couple-cooks-at-quantum-leap-winery-5035300
END:VEVENT

END:VCALENDAR
