BEGIN:VCALENDAR
VERSION:2.0
PRODID:-//ChamberMaster//Event Calendar 2.0//EN
METHOD:PUBLISH
X-PUBLISHED-TTL:P3D
REFRESH-INTERVAL:P3D
CALSCALE:GREGORIAN
BEGIN:VEVENT
DTSTART;VALUE=DATE:20200621
DTEND;VALUE=DATE:20200622
TRANSP:TRANSPARENT
X-MICROSOFT-CDO-ALLDAYEVENT:TRUE
SUMMARY:Father's Day At Boo-Yah
DESCRIPTION:Bulla Gastrobar \n\nFather's Day at Boo-Yah\n\nBottomless Sangrias and Mimosas\n\n3-Course Brunch Prix Fix Menu\n\nSocially Limited Distance Seating (6 feet)\n\nPatio Seating Available
X-ALT-DESC;FMTTYPE=text/html:<em>Bulla Gastrobar&nbsp\;</em><br />\n<strong><span style="color:rgb(0\, 0\, 0)\; font-family:arial\; font-size:14.6667px">Father&#39\;s Day at Boo-Yah</span><br />\n<em>Bottomless Sangrias and Mimosas</em></strong><br />\n<span style="color:rgb(0\, 0\, 0)\; font-family:arial\; font-size:14.6667px">3-Course Brunch Prix Fix Menu</span><br />\n<span style="color:rgb(0\, 0\, 0)\; font-family:arial\; font-size:14.6667px">Socially Limited Distance Seating (6 feet)</span><br />\n<span style="color:rgb(0\, 0\, 0)\; font-family:arial\; font-size:14.6667px">Patio Seating Available</span>
LOCATION:Bulla Gastrobar 110 S. Orlando Ave . Suite 7 Winter Park\, Fl. 32789
UID:e.3221.5041082
SEQUENCE:3
DTSTAMP:20260421T010316Z
URL:https://business.winterpark.org/events/details/father-s-day-at-boo-yah-5041082
END:VEVENT

END:VCALENDAR
