BEGIN:VCALENDAR
VERSION:2.0
PRODID:-//ChamberMaster//Event Calendar 2.0//EN
METHOD:PUBLISH
X-PUBLISHED-TTL:P3D
REFRESH-INTERVAL:P3D
CALSCALE:GREGORIAN
BEGIN:VEVENT
DTSTART:20201216T230000Z
DTEND:20201217T010000Z
X-MICROSOFT-CDO-ALLDAYEVENT:FALSE
SUMMARY:Family Night
DESCRIPTION:CELEBRATE THE REASON FOR THE SEASON!\n\nCome to San Pedro Spiritual Development Center on December 16th at 6pm for a night the whole family will enjoy! This event features live animals\, Christmas carols\, food & holiday treats\, Christmas crafts\, photos with the Three Kings\, and presentations of the Live Nativity throughout the evening.\n\nCost is FREE\, with food and treats for sale!\n\nAt San Pedro\, we are practicing social distancing and regularly cleaning all surfaces. Please bring your own face mask or covering for use indoors.
X-ALT-DESC;FMTTYPE=text/html:<h2 style="text-align:center">CELEBRATE THE REASON FOR THE SEASON!</h2>\n\n<p style="text-align:center">Come to San Pedro Spiritual Development Center on December 16th at 6pm for a night the whole family will enjoy! This event features live animals\, Christmas carols\, food &amp\; holiday treats\, Christmas crafts\, photos with the Three Kings\, and presentations of the Live Nativity throughout the evening.</p>\n\n<p style="text-align:center">Cost is FREE\, with food and treats for sale!</p>\n\n<p style="text-align:center"><em>At San Pedro\, we are practicing social distancing and regularly cleaning all surfaces. Please bring your own face mask or covering for use indoors. </em></p>\n
LOCATION:San Pedro Spiritual Developement Center 2400 Dike Rd Winter Park\, FL 32792
UID:e.3221.5041453
SEQUENCE:3
DTSTAMP:20260420T150448Z
URL:https://business.winterpark.org/events/details/family-night-5041453
END:VEVENT

END:VCALENDAR
