BEGIN:VCALENDAR
VERSION:2.0
PRODID:-//ChamberMaster//Event Calendar 2.0//EN
METHOD:PUBLISH
X-PUBLISHED-TTL:P3D
REFRESH-INTERVAL:P3D
CALSCALE:GREGORIAN
BEGIN:VEVENT
DTSTART:20201204T160000Z
DTEND:20201204T170000Z
X-MICROSOFT-CDO-ALLDAYEVENT:FALSE
SUMMARY:EXHIBITION TOUR: Marcus Jansen: E Pluribus Unum
DESCRIPTION:Join us for an in-depth tour of this exhibition. We will explore works that address structures of power\, surveillance\, and politics and will examine these images in the current context. Click link to join this virtual tour and use the password CFAM
X-ALT-DESC;FMTTYPE=text/html:Join us for an in-depth tour of this exhibition. We will explore works that address structures of power\, surveillance\, and politics and will examine these images in the current context. Click link to join this virtual tour and use the password CFAM
LOCATION:Virtual Event
UID:e.3221.5041418
SEQUENCE:3
DTSTAMP:20260420T070450Z
URL:https://business.winterpark.org/events/details/exhibition-tour-marcus-jansen-e-pluribus-unum-5041418
END:VEVENT

END:VCALENDAR
