BEGIN:VCALENDAR
VERSION:2.0
PRODID:-//ChamberMaster//Event Calendar 2.0//EN
METHOD:PUBLISH
X-PUBLISHED-TTL:P3D
REFRESH-INTERVAL:P3D
CALSCALE:GREGORIAN
BEGIN:VEVENT
DTSTART:20200329T190000Z
DTEND:20200329T210000Z
X-MICROSOFT-CDO-ALLDAYEVENT:FALSE
SUMMARY:Díaz Trio
DESCRIPTION:Composed of three dynamic artists\, violinist Andr s C rdenes (former concertmaster of the Pittsburg Symphony)\, violist Roberto D az (President of the Curtis Institute of Music)\, and cellist Andr s D az (winner of the 1986 Naumberg International Cello Competition)\, the D az Trio is internationally renowned\, garnering effusive praise from critics and audiences alike.
X-ALT-DESC;FMTTYPE=text/html:<span style="font-size:14px"><span style="background-color:rgb(255\, 255\, 255)\; font-family:arial">Composed of three dynamic artists\, violinist Andr&eacute\;s C&aacute\;rdenes (former concertmaster of the Pittsburg Symphony)\, violist Roberto D&iacute\;az (President of the Curtis Institute of Music)\, and cellist Andr&eacute\;s D&iacute\;az (winner of the 1986 Naumberg International Cello Competition)\, the D&iacute\;az Trio is internationally renowned\, garnering effusive praise from critics and audiences alike.</span></span>
LOCATION:The Tiedtke Concert Hall in Winter Park. 1000 Holt Avenue\, Winter Park\, Florida 32789.
UID:e.3221.5037930
SEQUENCE:3
DTSTAMP:20260421T043537Z
URL:https://business.winterpark.org/events/details/d&#237;az-trio-5037930
END:VEVENT

END:VCALENDAR
