BEGIN:VCALENDAR
VERSION:2.0
PRODID:-//ChamberMaster//Event Calendar 2.0//EN
METHOD:PUBLISH
X-PUBLISHED-TTL:P3D
REFRESH-INTERVAL:P3D
CALSCALE:GREGORIAN
BEGIN:VEVENT
DTSTART:20171031T120000Z
DTEND:20171031T133000Z
X-MICROSOFT-CDO-ALLDAYEVENT:FALSE
SUMMARY:Council of Leaders Breakfast
DESCRIPTION:
X-ALT-DESC;FMTTYPE=text/html:
LOCATION:WPCC 1st Floor Community Room
UID:e.3221.68744
SEQUENCE:3
DTSTAMP:20260423T173117Z
URL:https://business.winterpark.org/events/details/council-of-leaders-breakfast-10-31-2017-68744
END:VEVENT

END:VCALENDAR
