BEGIN:VCALENDAR
VERSION:2.0
PRODID:-//ChamberMaster//Event Calendar 2.0//EN
METHOD:PUBLISH
X-PUBLISHED-TTL:P3D
REFRESH-INTERVAL:P3D
CALSCALE:GREGORIAN
BEGIN:VEVENT
DTSTART:20180517T200000Z
DTEND:20180517T220000Z
X-MICROSOFT-CDO-ALLDAYEVENT:FALSE
SUMMARY:Contemporary Resort Collection Final Exhibition
DESCRIPTION:
X-ALT-DESC;FMTTYPE=text/html:
LOCATION:AXIOM Gallery 268 W New England Ave Winter Park\, FL 32789
UID:e.3221.5035296
SEQUENCE:3
DTSTAMP:20260423T043405Z
URL:https://business.winterpark.org/events/details/contemporary-resort-collection-final-exhibition-5035296
END:VEVENT

END:VCALENDAR
