BEGIN:VCALENDAR
VERSION:2.0
PRODID:-//ChamberMaster//Event Calendar 2.0//EN
METHOD:PUBLISH
X-PUBLISHED-TTL:P3D
REFRESH-INTERVAL:P3D
CALSCALE:GREGORIAN
BEGIN:VEVENT
DTSTART:20200624T180000Z
DTEND:20200624T193000Z
X-MICROSOFT-CDO-ALLDAYEVENT:FALSE
SUMMARY:Community Education Series: Naloxone Administration Training
DESCRIPTION:Laura Beth "LB" Burkhalter\, Director of Community Engagement at Jade Recovery\, Certified Naloxone Administration Trainer\, Recovery Coach and Co-Chair of TPAS Colorado (Treatment Professionals in Alumni Services). LB is passionate about creating recovery community and connection through music and expression. LB has created alumni programs\, social media recovery platforms and sober safe spaces for the LGBTQ community. She also worked to develop sober open mic nights with various musicians in recovery and started numerous service work events that impact our community at large. Her goal at Jade is to one day create a universal platform for people in recovery\, no matter what program you come from\, where everyone is welcome. LB is also a person in long term recovery\, who will be celebrating 5 years of sobriety in November 2020. She is dedicated to saving lives and teaching others what they need to know in order to help. When she isn't working to connect us all in various ways\, you can find her creating music\, biking and being a dog mom.\n\n\n\nNaloxone Administration Training will cover the opioid epidemic in America today. Participants will then learn signs and symptoms of an overdose accompanied with life saving techniques.
X-ALT-DESC;FMTTYPE=text/html:<span style="color:rgb(35\, 35\, 51)\; font-family:lato\,helvetica\,arial\; font-size:14px">Laura Beth &quot\;LB&quot\; Burkhalter\, Director of Community Engagement at Jade Recovery\, Certified Naloxone Administration Trainer\, Recovery Coach and Co-Chair of TPAS Colorado (Treatment Professionals in Alumni Services). LB is passionate about creating recovery community and connection through music and expression. LB has created alumni programs\, social media recovery platforms and sober safe spaces for the LGBTQ community. She also worked to develop sober open mic nights with various musicians in recovery and started numerous service work events that impact our community at large. Her goal at Jade is to one day create a universal platform for people in recovery\, no matter what program you come from\, where everyone is welcome. LB is also a person in long term recovery\, who will be celebrating 5 years of sobriety in November 2020. She is dedicated to saving lives and teaching others what they need to know in order to help. When she isn&rsquo\;t working to connect us all in various ways\, you can find her creating music\, biking and being a dog mom.</span><br style="box-sizing: border-box\; color: rgb(35\, 35\, 51)\; font-family: Lato\, Helvetica\, Arial\; font-size: 14px\;" />\n<br style="box-sizing: border-box\; color: rgb(35\, 35\, 51)\; font-family: Lato\, Helvetica\, Arial\; font-size: 14px\;" />\n<span style="color:rgb(35\, 35\, 51)\; font-family:lato\,helvetica\,arial\; font-size:14px">Naloxone Administration Training will cover the opioid epidemic in America today. Participants will then learn signs and symptoms of an overdose accompanied with life saving techniques.</span><br style="box-sizing: border-box\; color: rgb(35\, 35\, 51)\; font-family: Lato\, Helvetica\, Arial\; font-size: 14px\;" />\n&nbsp\;
LOCATION:Online Webinar Via Zoom
UID:e.3221.5041077
SEQUENCE:3
DTSTAMP:20260420T232911Z
URL:https://business.winterpark.org/events/details/community-education-series-naloxone-administration-training-5041077
END:VEVENT

END:VCALENDAR
