BEGIN:VCALENDAR
VERSION:2.0
PRODID:-//ChamberMaster//Event Calendar 2.0//EN
METHOD:PUBLISH
X-PUBLISHED-TTL:P3D
REFRESH-INTERVAL:P3D
CALSCALE:GREGORIAN
BEGIN:VEVENT
DTSTART;VALUE=DATE:20200722
DTEND;VALUE=DATE:20200901
TRANSP:TRANSPARENT
X-MICROSOFT-CDO-ALLDAYEVENT:TRUE
SUMMARY:COCKTAILS TO-GO
DESCRIPTION:Bougie To-Go ? $18\n\nLemon Grass To-Go $20
X-ALT-DESC;FMTTYPE=text/html:<p><span style="background-color:transparent\; font-size:11.5pt">Bougie To-Go ? $18<br />\nLemon Grass To-Go $20</span></p>\n
LOCATION:110 S. Orlando Ave Suite 7 Winter Park\, Fl. 32789
UID:e.3221.5041311
SEQUENCE:3
DTSTAMP:20260420T184343Z
URL:https://business.winterpark.org/events/details/cocktails-to-go-5041311
END:VEVENT

END:VCALENDAR
