BEGIN:VCALENDAR
VERSION:2.0
PRODID:-//ChamberMaster//Event Calendar 2.0//EN
METHOD:PUBLISH
X-PUBLISHED-TTL:P3D
REFRESH-INTERVAL:P3D
CALSCALE:GREGORIAN
BEGIN:VEVENT
DTSTART:20230606T193000Z
DTEND:20230606T210000Z
X-MICROSOFT-CDO-ALLDAYEVENT:FALSE
SUMMARY:C-Suite Circle #1
DESCRIPTION:Cost: Free. Leaders and entrepreneurs\, please join Tracy Olsen for mocktails 3:30-4:00 p.m.\, then gathering in circle around the intention "tapping into playful." Limit 17. Kindly RSVP to info@parkandpenn89.com. Leave your egos behind and bring an open mind as we learn new ways to add joy to our ever challenging roles as leaders. Increase the happiness of your employees and personal mindset. Bring your favorite journal! Details will be emailed post registration.
X-ALT-DESC;FMTTYPE=text/html:Cost: Free. Leaders and entrepreneurs\, please join Tracy Olsen for mocktails 3:30-4:00 p.m.\, then gathering in circle around the intention&nbsp\;&ldquo\;tapping into playful.&rdquo\; Limit 17. Kindly RSVP to <a href="mailto:info@parkandpenn89.com">info@parkandpenn89.com</a>. Leave your egos behind and bring an open mind as we learn new ways to add joy to our ever challenging roles as leaders. Increase the happiness of your employees and personal mindset. Bring your favorite journal! Details will be emailed post registration.&nbsp\;
LOCATION:Winter Park Chamber of Commerce 151 W Lyman Avenue Winter Park\, FL 32789
UID:e.3221.5050538
SEQUENCE:3
DTSTAMP:20260421T024834Z
URL:https://business.winterpark.org/events/details/c-suite-circle-1-5050538
END:VEVENT

END:VCALENDAR
