BEGIN:VCALENDAR
VERSION:2.0
PRODID:-//ChamberMaster//Event Calendar 2.0//EN
METHOD:PUBLISH
X-PUBLISHED-TTL:P3D
REFRESH-INTERVAL:P3D
CALSCALE:GREGORIAN
BEGIN:VEVENT
DTSTART;VALUE=DATE:20231201
DTEND;VALUE=DATE:20240101
TRANSP:TRANSPARENT
X-MICROSOFT-CDO-ALLDAYEVENT:TRUE
SUMMARY:Bring {BOO-YA} to your Holiday Celebrations with Bulla Gastrobar.
DESCRIPTION:Bring {BOO-YA} to your Holiday Celebrations with Bulla Gastrobar.\n\nBring the {BOO-YA} to your Holiday Celebrations. DEC.1st-31st\, receive 25  complimentary Churros (family-size) on catering orders $100 or more*!  PROMO CODE: BULLAHOLIDAY  (*Offer is not valid on third-party sites.  Restrictions may apply.)\n\n\n\nWINTER PARK   \n\n110 S ORLANDO AVE\, SUITE #7 WINTER PARK\, FLORIDA 32789\n\nhttps://bullagastrobar.com/locations/winter-park/\n\n321-214-6120
X-ALT-DESC;FMTTYPE=text/html:Bring {BOO-YA} to your Holiday Celebrations with Bulla Gastrobar.<br />\nBring the {BOO-YA} to your Holiday Celebrations. DEC.1st-31st\, receive 25&nbsp\; complimentary Churros (family-size) on catering orders $100 or more*!&nbsp\; PROMO CODE: BULLAHOLIDAY&nbsp\; (*Offer is not valid on third-party sites.&nbsp\; Restrictions may apply.)<br />\n<br />\nWINTER PARK&nbsp\;&nbsp\;&nbsp\;<br />\n110 S ORLANDO AVE\, SUITE #7 WINTER PARK\, FLORIDA 32789<br />\n<a href="https://bullagastrobar.com/locations/winter-park/">https://bullagastrobar.com/locations/winter-park/</a><br />\n321-214-6120<br />\n&nbsp\;
LOCATION:Bulla Gastro 110 S ORLANDO AVE\, SUITE #7 WINTER PARK\, FLORIDA 32789
UID:e.3221.5051950
SEQUENCE:3
DTSTAMP:20260420T121024Z
URL:https://business.winterpark.org/events/details/bring-boo-ya-to-your-holiday-celebrations-with-bulla-gastrobar-5051950
END:VEVENT

END:VCALENDAR
