BEGIN:VCALENDAR
VERSION:2.0
PRODID:-//ChamberMaster//Event Calendar 2.0//EN
METHOD:PUBLISH
X-PUBLISHED-TTL:P3D
REFRESH-INTERVAL:P3D
CALSCALE:GREGORIAN
BEGIN:VEVENT
DTSTART:20240210T003000Z
DTEND:20240210T020000Z
X-MICROSOFT-CDO-ALLDAYEVENT:FALSE
SUMMARY:Bach Vocal Artists: The Splendor of Baroque Magnificats
DESCRIPTION:John V. Sinclair\, conductor   Bach Vocal Artists\n\nGrandeur and ingenuity abound through five Baroque era composers' interpretations of the Magnificat\, a canticle of praise to Mary: Vivaldi\, Telemann\, Zelenka\, Caldara and Heinecken. This program will feature the virtuosic ensemble\, Bach Vocal Artists.\n\nTickets start at $10
X-ALT-DESC;FMTTYPE=text/html:<p><span style="font-size:14px">John V. Sinclair\, conductor &bull\; Bach Vocal Artists</span></p>\n\n<p><span style="font-size:14px">Grandeur and ingenuity abound through five Baroque era composers&rsquo\; interpretations of the <em>Magnificat</em>\, a canticle of praise to Mary: Vivaldi\, Telemann\, Zelenka\, Caldara and Heinecken. This program will feature the virtuosic ensemble\, Bach Vocal Artists.</span></p>\n\n<p><span style="font-size:14px">Tickets start at $10</span></p>\n
LOCATION:Knowles Memorial Chapel 1000 Holt Avenue Winter Park\, FL\, 32789
UID:e.3221.5050563
SEQUENCE:3
DTSTAMP:20260420T085151Z
URL:https://business.winterpark.org/events/details/bach-vocal-artists-the-splendor-of-baroque-magnificats-5050563
END:VEVENT

END:VCALENDAR
