BEGIN:VCALENDAR
VERSION:2.0
PRODID:-//ChamberMaster//Event Calendar 2.0//EN
METHOD:PUBLISH
X-PUBLISHED-TTL:P3D
REFRESH-INTERVAL:P3D
CALSCALE:GREGORIAN
BEGIN:VEVENT
DTSTART:20231102T233000Z
DTEND:20231103T000000Z
X-MICROSOFT-CDO-ALLDAYEVENT:FALSE
SUMMARY:Bach Vocal Artists: Handel's Roman Vespers
DESCRIPTION:John V. Sinclair\, conductor   Bach Vocal Artists\n\nDixit Dominus\, Laudate pueri Dominus\, and Nisi Dominus were commissioned by Handel's Roman patron\, Cardinal Colonna. These are some of the most charming examples of Handel's early music and are rarely heard together.\n\nTickets start at $10
X-ALT-DESC;FMTTYPE=text/html:<p>John V. Sinclair\, conductor &bull\; Bach Vocal Artists</p>\n\n<p><em>Dixit Dominus\, Laudate pueri Dominus\, </em>and <em>Nisi Dominus</em> were commissioned by Handel&rsquo\;s Roman patron\, Cardinal Colonna. These are some of the most charming examples of Handel&rsquo\;s early music and are rarely heard together.</p>\n\n<p>Tickets start at $10</p>\n
LOCATION:Knowles Memorial Chapel 1000 Holt Avenue Winter Park\, FL\, 32789
UID:e.3221.5050555
SEQUENCE:3
DTSTAMP:20260420T134911Z
URL:https://business.winterpark.org/events/details/bach-vocal-artists-roman-vespers-of-1707-5050555
END:VEVENT

END:VCALENDAR
