BEGIN:VCALENDAR
VERSION:2.0
PRODID:-//ChamberMaster//Event Calendar 2.0//EN
METHOD:PUBLISH
X-PUBLISHED-TTL:P3D
REFRESH-INTERVAL:P3D
CALSCALE:GREGORIAN
BEGIN:VEVENT
DTSTART:20200509T140000Z
DTEND:20200509T180000Z
X-MICROSOFT-CDO-ALLDAYEVENT:FALSE
SUMMARY:Audubon’s Annual Baby Owl Shower 2020
DESCRIPTION:Join us for the Center's annual Baby Owl Shower. Fun for the whole family with games\, activities and meet and greets with the Center's Ambassador birds. Free admission with a "baby gift" that is used in caring for these young raptors. Each year we ask for in-kind donation to help offset the Center's increased expenses during baby season. Babies that cannot be returned to the wild may be on display. For more information visit our website auduboncenterforbirdsorprey.org
X-ALT-DESC;FMTTYPE=text/html:Join us for the Center&rsquo\;s annual Baby Owl Shower. Fun for the whole family with games\, activities and meet and greets with the Center&rsquo\;s Ambassador birds. Free admission with a &ldquo\;baby gift&rdquo\; that is used in caring for these young raptors. Each year we ask for in-kind donation to help offset the Center&rsquo\;s increased expenses during baby season. Babies that cannot be returned to the wild may be on display. For more information visit our website auduboncenterforbirdsorprey.org
LOCATION:Audubon Center for Birds of Prey 1101 Audubon Way Maitland\, FL 32751
UID:e.3221.5039544
SEQUENCE:3
DTSTAMP:20260421T011044Z
URL:https://business.winterpark.org/events/details/audubon-s-annual-baby-owl-shower-2020-5039544
END:VEVENT

END:VCALENDAR
