BEGIN:VCALENDAR
VERSION:2.0
PRODID:-//ChamberMaster//Event Calendar 2.0//EN
METHOD:PUBLISH
X-PUBLISHED-TTL:P3D
REFRESH-INTERVAL:P3D
CALSCALE:GREGORIAN
BEGIN:VEVENT
DTSTART:20180512T140000Z
DTEND:20180512T180000Z
X-MICROSOFT-CDO-ALLDAYEVENT:FALSE
SUMMARY:Audubon Center for Birds of Prey Annual Baby Owl Shower 2018
DESCRIPTION:YOUR INVITED! Join us for the Center's annual Baby Owl Shower. Fun for the whole family with games\, activities and meet and greets with the Center's Ambassador birds. Free admission with a "baby gift" that is used in caring for these young raptors. Each year we ask for in-kind donations to help offset the Center's increased expenses during baby bird season. Babies that cannot be returned to the wild may be on display.
X-ALT-DESC;FMTTYPE=text/html:YOUR INVITED! Join us for the Center&#39\;s annual Baby Owl Shower. Fun for the whole family with games\, activities and meet and greets with the Center&#39\;s Ambassador birds. Free admission with a &quot\;baby gift&quot\; that is used in caring for these young raptors. Each year we ask for in-kind donations to help offset the Center&rsquo\;s increased expenses during baby bird season. Babies that cannot be returned to the wild may be on display.
LOCATION:Audubon Center for Birds of Prey 1101 Audubon Way Maitland\, FL 32751
UID:e.3221.5035238
SEQUENCE:3
DTSTAMP:20260423T030627Z
URL:https://business.winterpark.org/events/details/audubon-center-for-birds-of-prey-annual-baby-owl-shower-2018-5035238
END:VEVENT

END:VCALENDAR
