BEGIN:VCALENDAR
VERSION:2.0
PRODID:-//ChamberMaster//Event Calendar 2.0//EN
METHOD:PUBLISH
X-PUBLISHED-TTL:P3D
REFRESH-INTERVAL:P3D
CALSCALE:GREGORIAN
BEGIN:VEVENT
DTSTART:20201117T230000Z
DTEND:20201118T000000Z
X-MICROSOFT-CDO-ALLDAYEVENT:FALSE
SUMMARY:Arte y Café con la Curadora: Marcus Jansen: E Pluribus Unum
DESCRIPTION:Join curator Gisela Carbonell on a guided tour of this new exhibition which focuses on exploring socio-political themes and structures of power. Acompa a a la curadora Gisela Carbonell en un recorrido por esta exhibici n la cual explora temas sociopol ticos y estructuras de poder. Click link to join this virtual tour and use the password CFAM.
X-ALT-DESC;FMTTYPE=text/html:Join curator Gisela Carbonell on a guided tour of this new exhibition which focuses on exploring socio-political themes and structures of power. Acompa&ntilde\;a a la curadora Gisela Carbonell en un recorrido por esta exhibici&oacute\;n la cual explora temas sociopol&iacute\;ticos y estructuras de poder. Click link to join this virtual tour and use the password CFAM.
LOCATION:Virtual Tour
UID:e.3221.5041416
SEQUENCE:3
DTSTAMP:20260420T102041Z
URL:https://business.winterpark.org/events/details/arte-y-caf&#233;-con-la-curadora-marcus-jansen-e-pluribus-unum-5041416
END:VEVENT

END:VCALENDAR
