BEGIN:VCALENDAR
VERSION:2.0
PRODID:-//ChamberMaster//Event Calendar 2.0//EN
METHOD:PUBLISH
X-PUBLISHED-TTL:P3D
REFRESH-INTERVAL:P3D
CALSCALE:GREGORIAN
BEGIN:VEVENT
DTSTART:20200612T160000Z
DTEND:20200612T170000Z
X-MICROSOFT-CDO-ALLDAYEVENT:FALSE
SUMMARY:Arte Y Café Con La Curadora (Art and Coffee with the Curator): The Place as Metaphor
DESCRIPTION:Join CFAM Curator Gisela Carbonell for a lively tour and conversation in Spanish of the exhibition The Place as Metaphor. This tour will focus on works that address the socio-political dynamics of place. This program will be presented live as a Facebook Premiere.\n\n \n\nAcompa a a la curadora de CFAM\, Gisela Carbonell\, para una visita guiada en espa ol de la exposici n The Place as Metaphor. En este recorrido conversaremos sobre obras que abordan din micas sociopol ticas en representaciones de lugares reales e imaginados.  Este programa se presentar  en vivo como un estreno de Facebook.
X-ALT-DESC;FMTTYPE=text/html:<p>Join CFAM Curator Gisela Carbonell for a lively tour and conversation in Spanish of the exhibition <em>The Place as Metaphor</em>. This tour will focus on works that address the socio-political dynamics of place. <span style="color:#000000">This program will be presented live as a Facebook Premiere.</span></p>\n\n<p>&nbsp\;</p>\n\n<p>Acompa&ntilde\;a a la curadora de CFAM\, Gisela Carbonell\, para una visita guiada en espa&ntilde\;ol de la exposici&oacute\;n <em>The Place as Metaphor</em>. En este recorrido conversaremos sobre obras que abordan din&aacute\;micas sociopol&iacute\;ticas en representaciones de lugares reales e imaginados.&nbsp\; <span style="color:#2d2d2d">Este programa se presentar&aacute\; en vivo como un estreno de Facebook.</span></p>\n
LOCATION:To join\, visit CFAM's Facebook page: https://www.facebook.com/CFAMrollins
UID:e.3221.5041071
SEQUENCE:3
DTSTAMP:20260421T000014Z
URL:https://business.winterpark.org/events/details/arte-y-caf&#233;-con-la-curadora-art-and-coffee-with-the-curator-the-place-as-metaphor-5041071
END:VEVENT

END:VCALENDAR
